BEGIN:VCALENDAR
VERSION:2.0
PRODID:-// - ECPv4.6.19//NONSGML v1.0//EN
CALSCALE:GREGORIAN
METHOD:PUBLISH
X-ORIGINAL-URL:https://ukrainianinstitute.org
X-WR-CALDESC:Events for 
BEGIN:VEVENT
DTSTART;TZID=America/New_York:20161015T103000
DTEND;TZID=America/New_York:20161015T170000
DTSTAMP:20260420T111220
CREATED:20160812T190813Z
LAST-MODIFIED:20160812T190859Z
UID:1503-1476527400-1476550800@ukrainianinstitute.org
SUMMARY:14th Annual Open House New York Weekend
DESCRIPTION:Take a tour of the Ukrainian Institute of America as part of the 14th Annual Open House New York Weekend\, America’s largest architecture and design event.  \nHalf-hour tours are offered at 11:00 am\, 12:00 pm\, 1:00 pm\, 2:00 pm\, 3:00 pm\, 4:00 pm\, and 5:00 pm. \nThis event is free. \nThe Annual Open House New York Weekend unlocks the doors of New York’s most important buildings\, offering an extraordinary opportunity to experience the city. \nFrom historical to contemporary\, residential to industrial\, hundreds of sites across the five boroughs are open to visit\, with tours\, talks\, performances\, and other special events taking place over the course of OHNY Weekend. Through the unparalleled access that it enables\, OHNY Weekend deepens our understanding of the importance of architecture and urban design to foster a more vibrant civic life\, and helps catalyze a citywide conversation about how to build a better New York. \n14th Annual Open House New York Weekend
URL:https://ukrainianinstitute.org/event/14th-annual-open-house-new-york-weekend/
CATEGORIES:Other
END:VEVENT
END:VCALENDAR