BEGIN:VCALENDAR
VERSION:2.0
PRODID:-// - ECPv4.6.19//NONSGML v1.0//EN
CALSCALE:GREGORIAN
METHOD:PUBLISH
X-ORIGINAL-URL:https://ukrainianinstitute.org
X-WR-CALDESC:Events for 
BEGIN:VEVENT
DTSTART;TZID=America/New_York:20171014T100000
DTEND;TZID=America/New_York:20171014T170000
DTSTAMP:20260420T073343
CREATED:20170825T154702Z
LAST-MODIFIED:20170825T160508Z
UID:2085-1507975200-1508000400@ukrainianinstitute.org
SUMMARY:15th Annual Open House New York Weekend
DESCRIPTION: \nTake a tour of the Ukrainian Institute of America as part of the 15th Annual Open House New York Weekend\, America’s largest architecture and design event.  \nHalf-hour tours are offered at 10:30am\, 11:30am\, 1:30pm\, 2:30pm\, 3:30pm\, 4:30pm. \nThis event is free. \nThe Annual Open House New York Weekend unlocks the doors of New York’s most important buildings\, offering an extraordinary opportunity to experience the city. \nFrom historical to contemporary\, residential to industrial\, hundreds of sites across the five boroughs are open to visit\, with tours\, talks\, performances\, and other special events taking place over the course of OHNY Weekend. Through the unparalleled access that it enables\, OHNY Weekend deepens our understanding of the importance of architecture and urban design to foster a more vibrant civic life\, and helps catalyze a citywide conversation about how to build a better New York. \n15th Annual Open House New York Weekend
URL:https://ukrainianinstitute.org/event/15th-annual-open-house-new-york-weekend/
CATEGORIES:Other
END:VEVENT
END:VCALENDAR