BEGIN:VCALENDAR
VERSION:2.0
PRODID:-// - ECPv4.6.19//NONSGML v1.0//EN
CALSCALE:GREGORIAN
METHOD:PUBLISH
X-ORIGINAL-URL:https://ukrainianinstitute.org
X-WR-CALDESC:Events for 
BEGIN:VEVENT
DTSTART;TZID=America/New_York:20200228T170000
DTEND;TZID=America/New_York:20200228T170000
DTSTAMP:20260420T061612
CREATED:20200115T185058Z
LAST-MODIFIED:20200302T231839Z
UID:4025-1582909200-1582909200@ukrainianinstitute.org
SUMMARY:UCMF: 50 Years of Ukrainian Culture: Music\, Literature and Art
DESCRIPTION: \nWe will open the festival with a pre-concert roundtable discussion of Ukrainian literature\, music and visual art of the past 50 years. Dr. Mark Andryczyk (Columbia University) will discuss Ukraine’s literary development since the late Soviet period while Dr. Olena Martynyuk (Columbia University) will provide an overview of visual arts culture. Oksana Nesterenko (SUNY Stony Brook) will complement this discussion with a history of Ukrainian art music\, drawing attention to parallels and divergences amongst the arts.   \nThe first concert of the festival will feature performances of some of Ukraine’s most well-established living composers. \nPROGRAM TO INCLUDE                                                                                                                                            Myroslav Skoryk\, Three Extravagant Dances                                                                                                               Ihor Shcherbakov\, Canzone for Two Violins                                                                                                                           Virko Baley\, Journey after Loves                                                                                                                                              Yevhen Stankovych\, Kupala Songs                                                                                                                               Hanna Havrylets\, A Red Sun after Oleksandr Oles \nPERFORMERS                                                                                                                                                          Anastysia Antoniv and Iryna Kit\, violin                                                                                                                                                                  Dominik Belavy\, baritone                                                                                                                                                 Eric Sedgwick\, piano                                                                                                                                                  Shelest Piano Duo                                                                                                                                                                                                                                                                                                             Dumka Ukrainian Chorus                                                                                                        \n5:00 PM ROUNTABLE DISCUSSION \n6:30 PM CONCERT \nRSVP through Facebook event page. \nUCMF: 50 Years of Ukrainian Culture: Music\, Literature and Art
URL:https://ukrainianinstitute.org/event/50-years-of-ukrainian-culture-music-literature-and-art/
CATEGORIES:Other Ukrainian-American Community Events
END:VEVENT
END:VCALENDAR