BEGIN:VCALENDAR
VERSION:2.0
PRODID:-// - ECPv4.6.19//NONSGML v1.0//EN
CALSCALE:GREGORIAN
METHOD:PUBLISH
X-ORIGINAL-URL:https://ukrainianinstitute.org
X-WR-CALDESC:Events for 
BEGIN:VEVENT
DTSTART;TZID=America/New_York:20141207T190000
DTEND;TZID=America/New_York:20141207T190000
DTSTAMP:20260420T091823
CREATED:20141104T180914Z
LAST-MODIFIED:20141126T174056Z
UID:849-1417978800-1417978800@ukrainianinstitute.org
SUMMARY:Oksana Dyka in a special tribute concert "Ukraine\, Shevchenko & Music"
DESCRIPTION: \n[su_button url=”http://www.kaufmanmusiccenter.org/mch/event/oksana-dyka-in-concert-ukraine-shevchenko-music” style=”soft” icon=”icon: download”]CONCERT TICKETS[/su_button]  \n[su_button url=”http://ukrainianinstitute.org/wp-content/uploads/2014/11/Sponsorship-Opportunity.pdf” style=”soft” icon=”icon: download”]SPONSORSHIP OPPORTUNITY[/su_button]  \nPost-concert reception with Oksana Dyka will be held at the Ukrainian Institute of America at 2 East 79th Street New York\, NY. Reception price of $25 will include wine and hors d’oeuvres.  \n[su_button url=”https://www.paypal.com/cgi-bin/webscr?cmd=_s-xclick&hosted_button_id=2D4QUL9PLQGJQ” style=”soft” icon=”icon: download”]RECEPTION TICKETS[/su_button]  \nOksana Dyka in a special tribute concert “Ukraine\, Shevchenko & Music”
URL:https://ukrainianinstitute.org/event/849/
LOCATION:129 West 67th Street\, New York\, United States
CATEGORIES:Music
END:VEVENT
END:VCALENDAR