BEGIN:VCALENDAR
VERSION:2.0
PRODID:-// - ECPv4.6.19//NONSGML v1.0//EN
CALSCALE:GREGORIAN
METHOD:PUBLISH
X-ORIGINAL-URL:https://ukrainianinstitute.org
X-WR-CALDESC:Events for 
BEGIN:VEVENT
DTSTART;TZID=America/New_York:20140601T160000
DTEND;TZID=America/New_York:20140601T190000
DTSTAMP:20260421T091219
CREATED:20140520T210702Z
LAST-MODIFIED:20140608T153504Z
UID:605-1401638400-1401649200@ukrainianinstitute.org
SUMMARY:A Benefit Concert for Hromadske Radio "Celebrate Ukraine"
DESCRIPTION:A Benefit Concert for Hromadske Radio “Celebrate Ukraine”
URL:https://ukrainianinstitute.org/event/a-benefit-concert-for-hromadske-radio-celebrate-ukraine/
CATEGORIES:Other
ATTACH;FMTTYPE=image/jpeg:https://ukrainianinstitute.org/wp-content/uploads/2014/05/10336774_701282946584661_1787177729009314429_n1.jpg
END:VEVENT
END:VCALENDAR