BEGIN:VCALENDAR
VERSION:2.0
PRODID:-// - ECPv4.6.19//NONSGML v1.0//EN
CALSCALE:GREGORIAN
METHOD:PUBLISH
X-ORIGINAL-URL:https://ukrainianinstitute.org
X-WR-CALDESC:Events for 
BEGIN:VEVENT
DTSTART;TZID=America/New_York:20160515T150000
DTEND;TZID=America/New_York:20160515T150000
DTSTAMP:20260423T170430
CREATED:20160411T210951Z
LAST-MODIFIED:20160428T163244Z
UID:1261-1463324400-1463324400@ukrainianinstitute.org
SUMMARY:Annual Membership Meeting
DESCRIPTION:Dear Member of the Ukrainian Institute of America\, Inc.: \nPlease take notice that a meeting of the Membership (the “Membership Meeting”) of the Ukrainian Institute of America\, Inc. (the “Institute” or “UIA”)\, a New York not-for-profit corporation\, will be held at 3:00 pm Sunday\, May 15th\, 2016 at the Ukrainian Institute of America\, 2 East 79th Street\, New York\, NY for the following purposes:\n.    to report to the Membership on the progress of the Institute for the fiscal year ending June 30th\, 2015;\n.    to elect certain Directors to the Board to serve until their successors are duly elected and qualified; and\n.    to transact such other business as may properly come before the Membership Meeting or any adjournment thereof. \nSaturday\, May 14th\, 2016 (the day before the Membership Meeting) is the record date for determination of Members entitled to vote at the Membership Meeting and any adjournment thereof and only record Full Members at close of business that day will be entitled to vote. \nWe hope you are able to attend.  If you have not already done so\, please submit your proxy for the meeting. \n[su_button url=”http://ukrainianinstitute.org/wp-content/uploads/2016/04/2016-proxy-form-print-version.pdf” style=”soft” icon=”icon: download”]2016 PROXY FORM[/su_button] \nAnnual Membership Meeting
URL:https://ukrainianinstitute.org/event/annual-membership-meeting-3/
CATEGORIES:Other
END:VEVENT
END:VCALENDAR