BEGIN:VCALENDAR
VERSION:2.0
PRODID:-// - ECPv4.6.19//NONSGML v1.0//EN
CALSCALE:GREGORIAN
METHOD:PUBLISH
X-ORIGINAL-URL:https://ukrainianinstitute.org
X-WR-CALDESC:Events for 
BEGIN:VEVENT
DTSTART;TZID=America/New_York:20120207T193000
DTEND;TZID=America/New_York:20120207T210000
DTSTAMP:20260420T165541
CREATED:20120208T040209Z
LAST-MODIFIED:20140608T154031Z
UID:406-1328643000-1328648400@ukrainianinstitute.org
SUMMARY:Anti-Social Music
DESCRIPTION:Anti-Social Music
URL:https://ukrainianinstitute.org/event/anti-social-music/
CATEGORIES:Music
ATTACH;FMTTYPE=image/jpeg:https://ukrainianinstitute.org/wp-content/uploads/2012/02/7-Anti-Social-Music-Feb-7-2012-02.07.12.jpg
END:VEVENT
END:VCALENDAR