BEGIN:VCALENDAR
VERSION:2.0
PRODID:-// - ECPv4.6.19//NONSGML v1.0//EN
CALSCALE:GREGORIAN
METHOD:PUBLISH
X-ORIGINAL-URL:https://ukrainianinstitute.org
X-WR-CALDESC:Events for 
BEGIN:VEVENT
DTSTART;TZID=America/New_York:20171007T193000
DTEND;TZID=America/New_York:20171007T193000
DTSTAMP:20260420T040627
CREATED:20170821T145937Z
LAST-MODIFIED:20171016T153702Z
UID:2059-1507404600-1507404600@ukrainianinstitute.org
SUMMARY:Beethoven\, Barvinsky\, and Brahms
DESCRIPTION: \nGeneral Admission $25\, Students/Seniors $10\, UIA Members free. \nPROGRAM \nBeethoven\, Barvinsky\, and Brahms
URL:https://ukrainianinstitute.org/event/beethoven-barvinsky-and-brahms/
CATEGORIES:Music
END:VEVENT
END:VCALENDAR