BEGIN:VCALENDAR
VERSION:2.0
PRODID:-// - ECPv4.6.19//NONSGML v1.0//EN
CALSCALE:GREGORIAN
METHOD:PUBLISH
X-ORIGINAL-URL:https://ukrainianinstitute.org
X-WR-CALDESC:Events for 
BEGIN:VEVENT
DTSTART;TZID=America/New_York:20230917T150000
DTEND;TZID=America/New_York:20230917T173000
DTSTAMP:20260419T124109
CREATED:20220112T114942Z
LAST-MODIFIED:20230906T172859Z
UID:41485-1694962800-1694971800@ukrainianinstitute.org
SUMMARY:Celebrating the Past\, Present and Future
DESCRIPTION:MUSIC AT THE INSTITUTE\npresents \n Celebrating the Past\, Present and Future\nMykola Suk\, piano\nSolomiya Ivakhiv\, violin\nJesse Mills\, violin\nEttore Causa\, viola\nOleksa Mysyk\, cello\nGiana Dinatale\, string bass \n___________ \nProgram includes: \nIvan Karabyts Concert Divertimento for String Quintet and Piano\nAntonin Dvořák Piano Quintet No. 2 in A Major\, Op. 81\, B.155 \n\nThe Ukrainian Institute of America extends its deepest gratitude to the sponsors of this concert: Anya and Timish Hnateyko\, Motria Kuzycz and Andrew Maleckyj\, and Kathy Nalywajko.  \n\nRSVP \nCelebrating the Past\, Present and Future
URL:https://ukrainianinstitute.org/event/celebrating-the-past-present-and-future/
CATEGORIES:Music
ATTACH;FMTTYPE=image/jpeg:https://ukrainianinstitute.org/wp-content/uploads/2022/01/MATI_September2023_poster_final.jpg
END:VEVENT
END:VCALENDAR