BEGIN:VCALENDAR
VERSION:2.0
PRODID:-// - ECPv4.6.19//NONSGML v1.0//EN
CALSCALE:GREGORIAN
METHOD:PUBLISH
X-ORIGINAL-URL:https://ukrainianinstitute.org
X-WR-CALDESC:Events for 
BEGIN:VEVENT
DTSTART;TZID=America/New_York:20161209T190000
DTEND;TZID=America/New_York:20161209T190000
DTSTAMP:20260421T083618
CREATED:20161205T192539Z
LAST-MODIFIED:20161209T185600Z
UID:1726-1481310000-1481310000@ukrainianinstitute.org
SUMMARY:Discussion: Contemporary Lithuanian-Ukrainian Relations
DESCRIPTION: \n \nThe Ukrainian Institute of America and\nThe Lithuanian-American Community New York District\ninvite you to a discussion \n“CONTEMPORARY LITHUANIAN-UKRAINIAN RELATIONS: COMMON CONCERNS; COMMON APPROACHES\, COMMON SOLUTIONS;\nCOMMON ‘EUROPEAN’ FUTURE” \nFRIDAY\, DECEMBER 9\, 2016 · 7:00 PM \nThe discussion will be moderated by Walter Zaryckyj\, Executive Director of the Center for US-Ukrainian Relations. He will be joined by Juozas Kazlas\, who has spent 11 months in Dnipropetrovsk (Eastern Ukraine) as a Monitoring Officer at OSCE Mission to Ukraine. \nOPENING Remarks/Host Moderator: Olena Sidlovych \nTheme One:\nEnergy Problems Facing Ukraine & Lithuania: Dangers and Opportunities \nJuozas Kazlas\, former Monitoring Officer at OSCE Mission to Ukraine \nTheme Two:\nWhat Should Lithuania and Ukraine Expect From the New US Administration & Congress \nWalter Zaryckyj\, Executive Director of the Center of US-Ukrainian Relations \nTheme Three:\nLithuania and Ukraine Looking for Common Solutions on a Governmental Level  \nOstap Kryvdyk\, Senior Advisor to UA Rada Speaker \nJulius Pranvecius\, Consul General of the Republic of Lithuania in New York \nSection Four:\nUkrainian & Lithuanian Diasporas Looking for Ways to Act in Tandem\n\nUA-AM Rep Andrij Dobriansky\, Officer of the Ukrainian Congress Committee of America\nLT-AM Rep Algirdas Grybas\, Head of the NY Chapter of the Lithuanian American Community \nAdmission fee: $15\nUIA Members free \nSnacks and light refreshments will be served. \nIf you are planning to attend\, please RSVP  \nUkrainian Institute of America\n2 East 79th Street\, New York\, NY 10075 \nDiscussion: Contemporary Lithuanian-Ukrainian Relations
URL:https://ukrainianinstitute.org/event/contemporary-lithuanian-ukrainian-relations-common-concerns-common-approaches-common-bonds/
CATEGORIES:Other
END:VEVENT
END:VCALENDAR