BEGIN:VCALENDAR
VERSION:2.0
PRODID:-// - ECPv4.6.19//NONSGML v1.0//EN
CALSCALE:GREGORIAN
METHOD:PUBLISH
X-ORIGINAL-URL:https://ukrainianinstitute.org
X-WR-CALDESC:Events for 
BEGIN:VEVENT
DTSTART;TZID=America/New_York:20161025T190000
DTEND;TZID=America/New_York:20161025T190000
DTSTAMP:20260420T093633
CREATED:20161007T215117Z
LAST-MODIFIED:20161007T221041Z
UID:1657-1477422000-1477422000@ukrainianinstitute.org
SUMMARY:Contemporary Ukrainian Literature Series: "Decomposition" with Lyuba Yakimchuk
DESCRIPTION: Lyuba Yakimchuk\, a Ukrainian poet\, screenwriter and journalist\, was born in Pervomaisk\, Luhansk oblast\, Ukraine. She is the author of several full-length poetry collections\, including Like FASHION and Apricots of Donbas\, and the film script for The Word Building. \nMs. Yakimchuk has received many literary awards\, including the International Slavic Poetic Award\, the Bohdan-Ihor Antonych Prize and the Smoloskyp Prize\, three of Ukraine’s most prestigious awards for young poets. She is the winner of the International Literary Contest “Coronation of the Word”. Her poems have appeared in journals in Ukraine\, USA\, Sweden\, Germany\, Poland\, Israel\, Lithuania\, and Belarus. Her poems have been translated into English\, Swedish\, German\, French\, Polish\, Hebrew\, Slovak\, Lithuanian\, Slovenian\, Belarusian and Russian\, and her essays into English and Swedish. \nShe performs in a musical and poetic duet with the Ukrainian double bass player Mark Tokar; their projects include Apricots of Donbas and Women\, Smoke\, and Dangerous Things. Her poetry has been performed by the singer Mariana Sadovska (Cologne) and improvised by vocalist Olesya Zdorovetska (Dublin). \nLyuba Yakimchuk also works as a cultural manager. She organized the “Semenko Year” project (2012) dedicated to the Ukrainian futurist writer Mykahil’ Semenko\, and was curator for the literary programs Cultural Forum “Donkult” (2015\, Lviv) and Cultural Forum “GaliciaKult” (2016\, Kharkiv). \nShe lives in Kyiv. \nThe event is part of the Contemporary Ukrainian Literature Series cosponsored by the Ukrainian Studies Program at the Harriman Institute\, Columbia University and by the Kennan Institute at the Woodrow Wilson International Center for Scholars. \nThis event is free and open to the public.\n\nFor more information please visit harriman.colubia.edu or contact Dr. Mark Andryczyk at 212-854-4697 or at ma2634@columbia.edu. \nContemporary Ukrainian Literature Series: “Decomposition” with Lyuba Yakimchuk
URL:https://ukrainianinstitute.org/event/contemporary-ukrainian-literature-series-decomposition-with-lyuba-yakimchuk/
LOCATION:12th Floor IAB\, 420 West 118th St.)\, New York\, NY\, United States
CATEGORIES:Other Ukrainian-American Community Events
END:VEVENT
END:VCALENDAR