BEGIN:VCALENDAR
VERSION:2.0
PRODID:-// - ECPv4.6.19//NONSGML v1.0//EN
CALSCALE:GREGORIAN
METHOD:PUBLISH
X-ORIGINAL-URL:https://ukrainianinstitute.org
X-WR-CALDESC:Events for 
BEGIN:VEVENT
DTSTART;TZID=America/New_York:20151205T200000
DTEND;TZID=America/New_York:20151205T200000
DTSTAMP:20260420T073252
CREATED:20151116T191215Z
LAST-MODIFIED:20151201T223114Z
UID:1117-1449345600-1449345600@ukrainianinstitute.org
SUMMARY:"Destination U.S.A." Lions Gate Trio
DESCRIPTION: \nKATIE LANSDALE\, violin; DARRETT ADKINS\, cello; FLORENCE MILLET\, piano \nProgram \nHAYDN: Trio in G Major\, Hob. XV:41;\nBEETHOVEN: Trio in B-flat Major\, Op. 97\, “Archduke”;\nMAKSYM KOLOMIIETS: “Das Ende/The End” (2015)–World Premiere;\nRAVEL: Trio in A Minor. \nAdmission: $25; Students & Seniors $10; UIA Members free \n\n\n \n\n\nMATI\n\n\nGeneral $25.00 USDSenior/Student $10.00 USD \n\n\n\n\n\n\n“Destination U.S.A.” Lions Gate Trio
URL:https://ukrainianinstitute.org/event/destination-u-s-a-lions-gate-trio/
CATEGORIES:Music
END:VEVENT
END:VCALENDAR