BEGIN:VCALENDAR
VERSION:2.0
PRODID:-// - ECPv4.6.19//NONSGML v1.0//EN
CALSCALE:GREGORIAN
METHOD:PUBLISH
X-ORIGINAL-URL:https://ukrainianinstitute.org
X-WR-CALDESC:Events for 
BEGIN:VEVENT
DTSTART;TZID=America/New_York:20200307T193000
DTEND;TZID=America/New_York:20200307T193000
DTSTAMP:20260419T230331
CREATED:20200129T185646Z
LAST-MODIFIED:20200305T165806Z
UID:4056-1583609400-1583609400@ukrainianinstitute.org
SUMMARY:Skoryk\, Dvořák\, Fauré
DESCRIPTION: \nGeneral Admission $30; Seniors $20; Students $10; UIA Members free. \nSEE PROGRAM \nBUT TICKETS \nSkoryk\, Dvořák\, Fauré
URL:https://ukrainianinstitute.org/event/eqvin-and-two-piano-quartets/
CATEGORIES:Music
END:VEVENT
END:VCALENDAR