BEGIN:VCALENDAR
VERSION:2.0
PRODID:-// - ECPv4.6.19//NONSGML v1.0//EN
CALSCALE:GREGORIAN
METHOD:PUBLISH
X-ORIGINAL-URL:https://ukrainianinstitute.org
X-WR-CALDESC:Events for 
BEGIN:VEVENT
DTSTART;TZID=America/New_York:20140407T200000
DTEND;TZID=America/New_York:20140407T220000
DTSTAMP:20260420T111846
CREATED:20120408T023734Z
LAST-MODIFIED:20140609T034523Z
UID:398-1396900800-1396908000@ukrainianinstitute.org
SUMMARY:Europe Between the Wars
DESCRIPTION:Europe Between the Wars
URL:https://ukrainianinstitute.org/event/europe-between-the-wars/
CATEGORIES:Music
ATTACH;FMTTYPE=image/jpeg:https://ukrainianinstitute.org/wp-content/uploads/2012/04/14-MATI-April-7-2012-Europe-Between-the-Wars-04.07.12.jpg
END:VEVENT
END:VCALENDAR