BEGIN:VCALENDAR
VERSION:2.0
PRODID:-// - ECPv4.6.19//NONSGML v1.0//EN
CALSCALE:GREGORIAN
METHOD:PUBLISH
X-ORIGINAL-URL:https://ukrainianinstitute.org
X-WR-CALDESC:Events for 
BEGIN:VEVENT
DTSTART;TZID=America/New_York:20141009T190000
DTEND;TZID=America/New_York:20141009T190000
DTSTAMP:20260420T130029
CREATED:20140926T200040Z
LAST-MODIFIED:20141003T030301Z
UID:802-1412881200-1412881200@ukrainianinstitute.org
SUMMARY:"GAMER" by Oleh Sentsov
DESCRIPTION: \n“GAMER” by Oleh Sentsov
URL:https://ukrainianinstitute.org/event/gamer-by-oleh-sentsov/
CATEGORIES:Film
END:VEVENT
END:VCALENDAR