BEGIN:VCALENDAR
VERSION:2.0
PRODID:-// - ECPv4.6.19//NONSGML v1.0//EN
CALSCALE:GREGORIAN
METHOD:PUBLISH
X-ORIGINAL-URL:https://ukrainianinstitute.org
X-WR-CALDESC:Events for 
BEGIN:VEVENT
DTSTART;TZID=America/New_York:20170402T170000
DTEND;TZID=America/New_York:20170402T170000
DTSTAMP:20260420T022106
CREATED:20170302T194103Z
LAST-MODIFIED:20170405T191605Z
UID:1848-1491152400-1491152400@ukrainianinstitute.org
SUMMARY:Generation Millennium
DESCRIPTION: \n \nGENERATION MILLENNIUM\nSunday\, April 2\, 2017 at 5 p.m.  \nMORAN KATZ\, clarinet SOLOMIYA IVAKHIV\, violin YVES DHARAMRAJ\, cello BOHDAN KRYVOPUST\, piano \nBOHDAN KRYVOPUST: “Fern Flower” (“Kvitka paporoti”) for Violin and Piano (2015); Klavierstück for Solo Piano (*Premiere) (2016);\nZOLTAN ALMASHI: “Songs of Blooming” (“Pisni tsvitinnya”)—duet for Violin and Cello (2012);\nLUBAWA SYDORENKO: “Etudes of the Old City” for Cello Solo (2007);\nSERHIY PILIUTYKOV: “Fairy Tale” (“Kazka”) for Piano Solo (2003);\nOLEH BEZBORODKO: “Under the Silver Firs” (“Smerekuvannya”) for Clarinet and Piano (2011);\nIVAN NEBESNY: “Air Music 2” for Clarinet and Electronics (2006);\nALEKSANDR SHYMKO: “You—the Ocean” (“Ty—Okean”) for Violin and Piano (2015). \nDonation: $25\, Students and Senior Citizens — $10\, UIA Members — free \nGeneration Millennium
URL:https://ukrainianinstitute.org/event/generation-millennium/
CATEGORIES:Music
END:VEVENT
END:VCALENDAR