BEGIN:VCALENDAR
VERSION:2.0
PRODID:-// - ECPv4.6.19//NONSGML v1.0//EN
CALSCALE:GREGORIAN
METHOD:PUBLISH
X-ORIGINAL-URL:https://ukrainianinstitute.org
X-WR-CALDESC:Events for 
BEGIN:VEVENT
DTSTART;TZID=America/New_York:20120112T200000
DTEND;TZID=America/New_York:20120112T200000
DTSTAMP:20260420T165517
CREATED:20120112T215207Z
LAST-MODIFIED:20140608T141337Z
UID:389-1326398400-1326398400@ukrainianinstitute.org
SUMMARY:Gryphon Trio
DESCRIPTION:Gryphon Trio
URL:https://ukrainianinstitute.org/event/gryphon-trio/
CATEGORIES:Music
ATTACH;FMTTYPE=image/jpeg:https://ukrainianinstitute.org/wp-content/uploads/2012/01/1-MATI-Gryphon-Trio-January-12-2012-01.12.12.jpg
END:VEVENT
END:VCALENDAR