BEGIN:VCALENDAR
VERSION:2.0
PRODID:-// - ECPv4.6.19//NONSGML v1.0//EN
CALSCALE:GREGORIAN
METHOD:PUBLISH
X-ORIGINAL-URL:https://ukrainianinstitute.org
X-WR-CALDESC:Events for 
BEGIN:VEVENT
DTSTART;TZID=America/New_York:20121006T080000
DTEND;TZID=America/New_York:20121006T220000
DTSTAMP:20260420T151031
CREATED:20120611T024240Z
LAST-MODIFIED:20140608T161356Z
UID:400-1349510400-1349560800@ukrainianinstitute.org
SUMMARY:Immortal Beloved. In Memory of MATI co-founder Irena Stecura
DESCRIPTION:Immortal Beloved. In Memory of MATI co-founder Irena Stecura
URL:https://ukrainianinstitute.org/event/immortal-beloved-in-memory-of-mati-co-founder-irena-stecura/
CATEGORIES:Music
ATTACH;FMTTYPE=image/jpeg:https://ukrainianinstitute.org/wp-content/uploads/2012/06/30-MATI-Immortal-Beloved.-In-Memory-of-MATI-co-founder-Irena-Stecura-10.06.12.jpg
END:VEVENT
END:VCALENDAR