BEGIN:VCALENDAR
VERSION:2.0
PRODID:-// - ECPv4.6.19//NONSGML v1.0//EN
CALSCALE:GREGORIAN
METHOD:PUBLISH
X-ORIGINAL-URL:https://ukrainianinstitute.org
X-WR-CALDESC:Events for 
BEGIN:VEVENT
DTSTART;TZID=America/New_York:20141004T200000
DTEND;TZID=America/New_York:20141004T200000
DTSTAMP:20260420T110949
CREATED:20140908T135643Z
LAST-MODIFIED:20140926T200412Z
UID:792-1412452800-1412452800@ukrainianinstitute.org
SUMMARY:In Memoriam Andrij Paschuk
DESCRIPTION: \nIn Memoriam Andrij Paschuk
URL:https://ukrainianinstitute.org/event/in-memoriam-andrij-paschuk/
CATEGORIES:Music
END:VEVENT
END:VCALENDAR