BEGIN:VCALENDAR
VERSION:2.0
PRODID:-// - ECPv4.6.19//NONSGML v1.0//EN
CALSCALE:GREGORIAN
METHOD:PUBLISH
X-ORIGINAL-URL:https://ukrainianinstitute.org
X-WR-CALDESC:Events for 
BEGIN:VEVENT
DTSTART;TZID=America/New_York:20210523T140000
DTEND;TZID=America/New_York:20210831T140000
DTSTAMP:20260419T210501
CREATED:20210511T181549Z
LAST-MODIFIED:20210527T185456Z
UID:5443-1621778400-1630418400@ukrainianinstitute.org
SUMMARY:Irene Zabytko: The Days of Miracle and Wonder
DESCRIPTION:The Ukrainian Institute of America and Books at the Institute was delighted to present a special virtual event “Irene Zabytko: The Days of Miracle and Wonder” on Sunday\, May 23rd\, 2021. The event was moderated by Andrew Horodysky. \nA conversation with New York Times bestselling author Irene Zabytko as she talks about the writing life and her latest short story collection\, The Days of Miracle and Wonder\, featuring famous and infamous people with historical\, political\, spiritual\, and even sinister ties to Ukraine. Most of the narratives are set in Ukraine just before or after the breakup of the Soviet Union\, a time when the country suffered from significant economic and social distress. Characters include an Elvis wannabe\, a bitter cosmonaut\, an Olympic swimmer fallen on hard times\, and a great actor toiling in a Siberian gulag. \n  \n \n  \nIrene Zabytko is the author of The Sky Unwashed\, a novel about Chornobyl and the evacuees who returned to their irradiated villages. It was a Barnes & Noble Discover Great New Writers Book\, A Book Sense ‘76 Pick Selection\, and a New England Booksellers Association Discovery title. The e-book version was rated Number One on Amazon.com and appeared on “The New York Times Bestseller e-Books List.”  She is also the author of the short story collection When Luba Leaves Home\, based on the Ukrainian community in Chicago. One of the stories\, “Obligation\,” won the PEN Syndicated Fiction Award\, and was read on National Public Radio’s “The Sound of Writing.” It was selected as The New York City Public Library’s Best Books for the Teen Age ‘04. \nIn 2016-17\, Ms. Zabytko was awarded a Fulbright U.S Scholar Award to Ukraine where she researched the Ukrainian-based haunts of 19th century writer Nikolai Gogol for an upcoming novel. \n………………………. \n  \nThe Days of Miracle and Wonder: Stories \nBy Irene Zabytko \nLanguage: English \nISBN-13: 979-8718058260 \nPublished: Independently published (April 8\, 2021) \n[Link to Amazon] \n  \nWhen Luba Leaves Home \nBy Irene Zabytko \nLanguage: English \nISBN-13: 978-1565123328 \nPublished: Algonquin Books (April 11\, 2003) \n[Link to Amazon] \n  \nThe Sky Unwashed \nBy Irene Zabytko \nLanguage: English \nISBN-13: 978-1565122468 \nPublished: Algonquin Books (March 31\, 2000) \n[Link to Amazon] \nIrene Zabytko: The Days of Miracle and Wonder
URL:https://ukrainianinstitute.org/event/irene-zabytko-the-days-of-miracle-and-wonder/
CATEGORIES:Book
ATTACH;FMTTYPE=image/jpeg:https://ukrainianinstitute.org/wp-content/uploads/2021/05/zabytko1.jpg
END:VEVENT
END:VCALENDAR