BEGIN:VCALENDAR
VERSION:2.0
PRODID:-// - ECPv4.6.19//NONSGML v1.0//EN
CALSCALE:GREGORIAN
METHOD:PUBLISH
X-ORIGINAL-URL:https://ukrainianinstitute.org
X-WR-CALDESC:Events for 
BEGIN:VEVENT
DTSTART;TZID=America/New_York:20151008T183000
DTEND;TZID=America/New_York:20151008T183000
DTSTAMP:20260420T094503
CREATED:20150924T181322Z
LAST-MODIFIED:20150929T163130Z
UID:1064-1444329000-1444329000@ukrainianinstitute.org
SUMMARY:IT Round Table with Executives from Ukraine's IT Software Industry
DESCRIPTION:The Ukrainian Institute of America (UIA) and The Federation of Ukrainian Student Organizations of America (SUSTA) invite the public to a Professional Networking Event – “IT Round Table with Executives from Ukraine’s IT Software Industry.”\n \n \nThe event will be moderated by Adrian Slywotzky\, Partner at Oliver Wyman\, a leading global management consulting firm.   \nThe panel will include: \n– Special guest Charles Whitehead from Cornell Law School and the Cornell Technion Innovation Institute; and\n– Executives from DataArt\, ELEKS\, EPAM and SoftServe.     \nWe anticipate robust discussion at this rare gathering of executives from Ukraine’s IT industry.  Join us.   \n[su_button url=”https://www.eventbrite.com/e/it-round-table-with-executives-from-ukraines-it-software-industry-tickets-18789814842″ style=”soft” icon=”icon: download”]RSVP Tickets[/su_button] \nIT Round Table with Executives from Ukraine’s IT Software Industry
URL:https://ukrainianinstitute.org/event/it-round-table-with-executives-from-ukraines-it-software-industry/
CATEGORIES:Other
END:VEVENT
END:VCALENDAR