BEGIN:VCALENDAR
VERSION:2.0
PRODID:-// - ECPv4.6.19//NONSGML v1.0//EN
CALSCALE:GREGORIAN
METHOD:PUBLISH
X-ORIGINAL-URL:https://ukrainianinstitute.org
X-WR-CALDESC:Events for 
BEGIN:VEVENT
DTSTART;TZID=America/New_York:20161107T190000
DTEND;TZID=America/New_York:20161107T190000
DTSTAMP:20260420T055759
CREATED:20161003T200425Z
LAST-MODIFIED:20161103T150021Z
UID:1644-1478545200-1478545200@ukrainianinstitute.org
SUMMARY:Book Presentation: Jews and Ukrainians a Millennium of Co-Existence
DESCRIPTION: \n\n\n\n\n\n\nThere is much that ordinary Ukrainians do not know about Jews and that ordinary Jews do not know about Ukrainians. As a result\, those Jews and Ukrainians usually view each other through distorted stereotypes\, misperceptions\, and biases. \nThis talk sheds new light on highly controversial moments of Ukrainian-Jewish relations and argues that the historical experience in Ukraine not only divided ethnic Ukrainians and Jews but also brought them together.  \nYohanan Petrovsky-Shtern is the Crown Family Professor of Jewish Studies and Professor of History in History Department at Northwestern University. He authored a number of prize-winning books including “The Golden Age Shtetl” ( 2015).  For his contribution he has been awarded the honorary doctorate by the University Kyiv-Mohyla Academy in Ukraine. His new book won a Special Recognition Award at the Lviv Book Forum in 2016. \nBook Presentation: Jews and Ukrainians a Millennium of Co-Existence
URL:https://ukrainianinstitute.org/event/jews-and-ukrainians-a-millennium-of-co-existence/
CATEGORIES:Other
END:VEVENT
END:VCALENDAR