BEGIN:VCALENDAR
VERSION:2.0
PRODID:-// - ECPv4.6.19//NONSGML v1.0//EN
CALSCALE:GREGORIAN
METHOD:PUBLISH
X-ORIGINAL-URL:https://ukrainianinstitute.org
X-WR-CALDESC:Events for 
BEGIN:VEVENT
DTSTART;VALUE=DATE:20191221
DTEND;VALUE=DATE:20191222
DTSTAMP:20260423T105717
CREATED:20191125T153946Z
LAST-MODIFIED:20191125T155257Z
UID:3950-1576886400-1576972799@ukrainianinstitute.org
SUMMARY:Yara's Winter Festival: Koliada on Mars
DESCRIPTION: \nKoliada Winter Songs is a world music/theatre piece based on songs from the Carpathian Mountains that preserve the rituals of an ancient winter festival. The Koliada festival now coincides with Christmas\, but is much older in tradition and symbolism. Yara Arts Group began its collaboration with traditional artists from the Carpathians in 1995. \nEllen Stewart Theatre | 66 East 4th Street (2nd Floor)\nSaturday at 12PM and 7PM\n$25 Tickets; $20 Student/Senior Tickets; $10 Kids Tickets [+$1 Facility Fee] \nBUY TICKETS \nYara’s Winter Festival: Koliada on Mars
URL:https://ukrainianinstitute.org/event/koliada-winter-songs/
CATEGORIES:Other Ukrainian-American Community Events
END:VEVENT
END:VCALENDAR