BEGIN:VCALENDAR
VERSION:2.0
PRODID:-// - ECPv4.6.19//NONSGML v1.0//EN
CALSCALE:GREGORIAN
METHOD:PUBLISH
X-ORIGINAL-URL:https://ukrainianinstitute.org
X-WR-CALDESC:Events for 
BEGIN:VEVENT
DTSTART;TZID=America/New_York:20151219T160000
DTEND;TZID=America/New_York:20151219T160000
DTSTAMP:20260420T123250
CREATED:20151124T193749Z
LAST-MODIFIED:20151124T194851Z
UID:1122-1450540800-1450540800@ukrainianinstitute.org
SUMMARY:Koliadky Evening
DESCRIPTION: \n\n\n \n\n\nKoliadky\n\n\nAdmission $15.00 USD \n\n\n\n\n\n\nKoliadky Evening
URL:https://ukrainianinstitute.org/event/koliadky-evening-on-st-nicholas-day/
CATEGORIES:Other
END:VEVENT
END:VCALENDAR