BEGIN:VCALENDAR
VERSION:2.0
PRODID:-// - ECPv4.6.19//NONSGML v1.0//EN
CALSCALE:GREGORIAN
METHOD:PUBLISH
X-ORIGINAL-URL:https://ukrainianinstitute.org
X-WR-CALDESC:Events for 
BEGIN:VEVENT
DTSTART;TZID=America/New_York:20240517T193000
DTEND;TZID=America/New_York:20240517T213000
DTSTAMP:20260425T102748
CREATED:20240502T173726Z
LAST-MODIFIED:20240506T215347Z
UID:42506-1715974200-1715981400@ukrainianinstitute.org
SUMMARY:Music at the Institute – 35th Season Finale
DESCRIPTION:MUSIC AT THE INSTITUTE \npresents \nMusic at the Institute – 35th Season Finale \n  \nFEATURED WORKS\nBohdan Kryvopust Ukrainian Suite for violin and piano\, world premier (2024)\nCommissioned by the Ukrainian Institute of America and Bohdan Gerulak\n \nLudwig van Beethoven Quintet in E-flat major\, Op. 16\, arranged for piano and string trio\n \nAntonin Dvořák Piano Quartet No. 2 in E-flat major\, Op. 87 \n  \nPERFORMED BY\nSolomiya Ivakhiv\, violin\nDanny Kim\, viola\nJonah Ellsworth\, cello\nHeng-Jin Park\, piano \n  \nREGISTER\n  \nMusic at the Institute – 35th Season Finale
URL:https://ukrainianinstitute.org/event/mati-35th-season-finale/
CATEGORIES:Events
ATTACH;FMTTYPE=image/png:https://ukrainianinstitute.org/wp-content/uploads/2024/05/2024.05.17-MATI-169_final.png
END:VEVENT
END:VCALENDAR