BEGIN:VCALENDAR
VERSION:2.0
PRODID:-// - ECPv4.6.19//NONSGML v1.0//EN
CALSCALE:GREGORIAN
METHOD:PUBLISH
X-ORIGINAL-URL:https://ukrainianinstitute.org
X-WR-CALDESC:Events for 
BEGIN:VEVENT
DTSTART;TZID=America/New_York:20140405T200000
DTEND;TZID=America/New_York:20140405T220000
DTSTAMP:20260420T111107
CREATED:20140418T114759Z
LAST-MODIFIED:20140609T033540Z
UID:524-1396728000-1396735200@ukrainianinstitute.org
SUMMARY:MATI A Look Back at the 20th Century
DESCRIPTION:MATI A Look Back at the 20th Century
URL:https://ukrainianinstitute.org/event/mati-a-look-back-at-the-20th-century/
CATEGORIES:Music
ATTACH;FMTTYPE=image/jpeg:https://ukrainianinstitute.org/wp-content/uploads/2014/04/18-MATI-A-Look-Back-at-the-20th-Century-April-11.jpg
END:VEVENT
END:VCALENDAR