BEGIN:VCALENDAR
VERSION:2.0
PRODID:-// - ECPv4.6.19//NONSGML v1.0//EN
CALSCALE:GREGORIAN
METHOD:PUBLISH
X-ORIGINAL-URL:https://ukrainianinstitute.org
X-WR-CALDESC:Events for 
BEGIN:VEVENT
DTSTART;TZID=America/New_York:20140112T150000
DTEND;TZID=America/New_York:20140112T180000
DTSTAMP:20260420T130438
CREATED:20140418T113302Z
LAST-MODIFIED:20140609T035706Z
UID:513-1389538800-1389549600@ukrainianinstitute.org
SUMMARY:MATI Festival Chamber Music
DESCRIPTION:MATI Festival Chamber Music
URL:https://ukrainianinstitute.org/event/mati-festival-chamber-music/
CATEGORIES:Music
ATTACH;FMTTYPE=image/jpeg:https://ukrainianinstitute.org/wp-content/uploads/2014/04/1-MATI-Festival-Chamber-Music-Jan-121.jpg
END:VEVENT
END:VCALENDAR