BEGIN:VCALENDAR
VERSION:2.0
PRODID:-// - ECPv4.6.19//NONSGML v1.0//EN
CALSCALE:GREGORIAN
METHOD:PUBLISH
X-ORIGINAL-URL:https://ukrainianinstitute.org
X-WR-CALDESC:Events for 
BEGIN:VEVENT
DTSTART;TZID=America/New_York:20240209T190000
DTEND;TZID=America/New_York:20240209T220000
DTSTAMP:20260420T175450
CREATED:20240124T142003Z
LAST-MODIFIED:20240206T132415Z
UID:42082-1707505200-1707516000@ukrainianinstitute.org
SUMMARY:UKRAINIAN MASTERS - New Album on NAXOS
DESCRIPTION:Music at the Institute presents \nA Concert and Conversation to celebrate the new album on NAXOS – UKRAINIAN MASTERS. \nFeaturing \nPerformance of selections from the album\, which includes sonatas for violin and piano by Sergei Bortkiewicz (Serhiy Bortkevych)\, Viktor Kosenko and Myroslav Skoryk. \nSolomiya Ivakhiv\, violin [UCONN/Longy]\nSteven Beck\, piano [UMass Amherst] \nMaria Sonevytsky\, Ethnomusicologist and Professor of Music\, Bard College and Peter Schmelz\, Musicologist and Professor of Music\, Johns Hopkins University\, will have discuss the contribution of Ukrainian Composers to the musical canon. \nA reception will follow the program. Ukrainian Masters CD will be available for purchase. \n​If you are not able to attend the event in person\, you may screen it on our UIA YouTube Channel HERE. \nThanks to the generosity of our program sponsor\, the Ukrainian National Women’s League of America\, this event is free and open to the public. Advance registration and contributions to support “Music at the Institute” will be sincerely appreciated. \n  \nCHAMPION $50\,000\n  \nUKRAINIAN MASTERS – New Album on NAXOS
URL:https://ukrainianinstitute.org/event/mati-release-ukrainian-masters-cd/
CATEGORIES:Events
ATTACH;FMTTYPE=image/jpeg:https://ukrainianinstitute.org/wp-content/uploads/2024/01/2024.02.09-MATI-16x9-1.jpg
END:VEVENT
END:VCALENDAR