BEGIN:VCALENDAR
VERSION:2.0
PRODID:-// - ECPv4.6.19//NONSGML v1.0//EN
CALSCALE:GREGORIAN
METHOD:PUBLISH
X-ORIGINAL-URL:https://ukrainianinstitute.org
X-WR-CALDESC:Events for 
BEGIN:VEVENT
DTSTART;TZID=America/New_York:20140501T170000
DTEND;TZID=America/New_York:20140518T170000
DTSTAMP:20260420T183313
CREATED:20140416T052128Z
LAST-MODIFIED:20170816T152854Z
UID:421-1398963600-1400432400@ukrainianinstitute.org
SUMMARY:Max Vityk "A Journey"
DESCRIPTION:The Ukrainian Institute of America is delighted to present ‘A Journey’\, the first solo show of artist Max Vityk in New York. Curated by Walter Hoydysh\, Art Director of the Ukrainian Institute and Annelien Bruins of Tang Art Advisory\, the exhibition follows Max Vityk’s artistic journey from abstract expressionism to Ukrainian mysticism. \nAn opening reception took place on May 2nd. Due to popular demand the exhibit has been extended through June 1\, 2014.\nThe exhibit has also been expanded to include new museum scale works by Max Vityk not shown previously. \nA closing reception was held on Friday\, May 30th from 6-8pm. \nA Video Tour: Max Vityk ‘A Journey’.\n \nMax Vityk 'A Journey' from Ukrainian Institute of America on Vimeo. \nFor more information about Max Vityk please visit www.maxvityk.com \nMax Vityk “A Journey”
URL:https://ukrainianinstitute.org/event/max-vityk-a-journey/
CATEGORIES:Art
ATTACH;FMTTYPE=image/jpeg:https://ukrainianinstitute.org/wp-content/uploads/2014/04/21-Max-Vityk-May-1-181.jpg
END:VEVENT
END:VCALENDAR