BEGIN:VCALENDAR
VERSION:2.0
PRODID:-// - ECPv4.6.19//NONSGML v1.0//EN
CALSCALE:GREGORIAN
METHOD:PUBLISH
X-ORIGINAL-URL:https://ukrainianinstitute.org
X-WR-CALDESC:Events for 
BEGIN:VEVENT
DTSTART;TZID=America/New_York:20180325T150000
DTEND;TZID=America/New_York:20180325T150000
DTSTAMP:20260419T143126
CREATED:20170821T161409Z
LAST-MODIFIED:20180308T223330Z
UID:2074-1521990000-1521990000@ukrainianinstitute.org
SUMMARY:Music of Ukrainian Diaspora Composers
DESCRIPTION:\nOSYP ZALESKY: Piano Miniatures: 1. Prayer\, 2. Remembrance\, 3. Witches’ Dance;\nMARIAN KOUZAN: Constructor for Piano Solo;\nWADYM KIPA: Lament (Skarha\, 1939)\, Reminiscence (Spohad\, 1953)\, Variations Fantastiques (1957);\nVIRKO BALEY: Pajarillo (2001);\nIHOR SONEVYTSKY: Variations on the theme of the Ukrainian folk song “The Crane” (Zanadyvsya zhuravel’) (1962)\, Lullaby from the collection Four Seasons; Dance of the Sisters\, Dance of the Stepmother from the ballet Cinderella (1967). \n\n\n \n\n\nAdmission\n\n\nGeneral $25.00 USDStudents/Seniors $10.00 USD \n\n\n\n\n\n\nMusic of Ukrainian Diaspora Composers
URL:https://ukrainianinstitute.org/event/music-of-ukrainian-diaspora-composers/
CATEGORIES:Music
END:VEVENT
END:VCALENDAR