BEGIN:VCALENDAR
VERSION:2.0
PRODID:-// - ECPv4.6.19//NONSGML v1.0//EN
CALSCALE:GREGORIAN
METHOD:PUBLISH
X-ORIGINAL-URL:https://ukrainianinstitute.org
X-WR-CALDESC:Events for 
BEGIN:VEVENT
DTSTART;TZID=America/New_York:20170526T190000
DTEND;TZID=America/New_York:20170526T190000
DTSTAMP:20260419T154754
CREATED:20170120T205724Z
LAST-MODIFIED:20170815T152101Z
UID:1782-1495825200-1495825200@ukrainianinstitute.org
SUMMARY:Mustafa (2016)
DESCRIPTION: \nThe film includes recreated scenes from the life of Mustafa Dzhemilev: you will visit his prison\, speak with his associates in the struggle for the return of Crimea in the Soviet and in modern times\, feel like an activist of the national Crimean Tatar movement\, plunge into the life story of a strong and unbroken leader whose name is Mustafa Dzhemilev. \nThe goal of this film is to tell the public a life story of the Ukrainian politician and public figure\, who personifies the fight for the survival\, dignity and honor of the Crimean Tatars. \nProject team:\n– Ahmed Sarihalil\, film director;\n– Tamila Tasheva\, producer;\n– Efim Chupakhin\, Ukrainian composer\, pianist\, sound-producer;\n– Vakhtang Kipiani\, Ukrainian journalist\, publicist\, historian;\n– Maksym Pasichnyk\, lead character\, role of Mustafa Dzhemilev.  \nQ&A with the film director and the producer will follow the screening.  \nThe film premiere took place on October 28\, 2016 as part of the program “Ukrainian premieres” at the Kyiv International Film Festival “Molodist.” The Documentary “Mustafa” was presented at the European Film Market in the framework of the 67th Internationale Filmfestspiele Berlin and at the 11th edition of One World in Brussels within One World International Human Rights Documentary Film Festival. Soon the film will be screened at one of the largest film festivals in the Middle East\, the International Human Rights Documentary Film Festival “Bir Duino Kyrgyzstan\,” and a number of the other human rights film festivals.  \nGeneral admission $15\nStudents $10\nUIA Members free \nReception to follow \nMustafa (2016)
URL:https://ukrainianinstitute.org/event/mustafa-2016/
CATEGORIES:Film
END:VEVENT
END:VCALENDAR