BEGIN:VCALENDAR
VERSION:2.0
PRODID:-// - ECPv4.6.19//NONSGML v1.0//EN
CALSCALE:GREGORIAN
METHOD:PUBLISH
X-ORIGINAL-URL:https://ukrainianinstitute.org
X-WR-CALDESC:Events for 
BEGIN:VEVENT
DTSTART;TZID=America/New_York:20160305T200000
DTEND;TZID=America/New_York:20160305T200000
DTSTAMP:20260420T055708
CREATED:20151214T190737Z
LAST-MODIFIED:20160225T193639Z
UID:1157-1457208000-1457208000@ukrainianinstitute.org
SUMMARY:Mykola Dyletsky: "A Musical Grammar in Seventeenth - Century Cracow and Kyiv"
DESCRIPTION:Admission: $25; Students & Seniors $10; UIA Members free. \n\n\n \n\n\nMATI\n\n\nGeneral $25.00 USDSenior/Student $10.00 USD \n\n\n\n\n\n\n \nHailed by the New York Times as “fine\, flexible ensemble” early music Ensemble Origo will perform a selection of Polish madrigals\, German motets and Mykola Dyletsky’s four voice Liturgy.  \nPre-concert lecture by Dr. Eric Rice at 7:00 pm. \nProgram: \nThomas Stoltzer “O admirabile commercium ”  \nHeinrich Finck “Veni creator spiritus”  \nVaclav z Szamotuly “Chryste\, dniu naszej światłości” \nJuż się zmierzcha à 4 – Vaclav z Szamotuly \nMarcin Leopolita “Kyrie from Missa Paschalis” \nMikołaj z Krakowa “Otóż moja powolność tak mi się płaci” \nAnonymus “Oczy me miłe” \nLuca Marenzio  “Vezzosi augelli in fra le verdi frondeà”    \nMarenzio “Iniquos odio habui” \nHeinrich Schütz “Selig sind die Toten” \nMarco Scacci “Vobis datum est” \nMykola DYLETSKY: Liturgy \nMykola Dyletsky: “A Musical Grammar in Seventeenth – Century Cracow and Kyiv”
URL:https://ukrainianinstitute.org/event/mykola-dyletsky-a-musical-grammar-in-seventeenth-century-cracow-and-kyiv/
CATEGORIES:Music
END:VEVENT
END:VCALENDAR