BEGIN:VCALENDAR
VERSION:2.0
PRODID:-// - ECPv4.6.19//NONSGML v1.0//EN
CALSCALE:GREGORIAN
METHOD:PUBLISH
X-ORIGINAL-URL:https://ukrainianinstitute.org
X-WR-CALDESC:Events for 
BEGIN:VEVENT
DTSTART;TZID=America/New_York:20121231T140000
DTEND;TZID=America/New_York:20130101T040000
DTSTAMP:20260420T145003
CREATED:20140419T182808Z
LAST-MODIFIED:20140608T141144Z
UID:565-1356962400-1357012800@ukrainianinstitute.org
SUMMARY:New Year's Eve 2013
DESCRIPTION:New Year’s Eve 2013
URL:https://ukrainianinstitute.org/event/new-years-eve-2013/
CATEGORIES:Other
END:VEVENT
END:VCALENDAR