BEGIN:VCALENDAR
VERSION:2.0
PRODID:-// - ECPv4.6.19//NONSGML v1.0//EN
CALSCALE:GREGORIAN
METHOD:PUBLISH
X-ORIGINAL-URL:https://ukrainianinstitute.org
X-WR-CALDESC:Events for 
BEGIN:VEVENT
DTSTART;TZID=America/New_York:20151231T210000
DTEND;TZID=America/New_York:20151231T210000
DTSTAMP:20260420T141346
CREATED:20151030T205836Z
LAST-MODIFIED:20151228T141755Z
UID:1096-1451595600-1451595600@ukrainianinstitute.org
SUMMARY:New Year's Eve Spectacular
DESCRIPTION: \nWe have sold out! There are no more tickets available. \nNew Year’s Eve Spectacular
URL:https://ukrainianinstitute.org/event/new-years-eve-spectacular/
CATEGORIES:Other
END:VEVENT
END:VCALENDAR