BEGIN:VCALENDAR
VERSION:2.0
PRODID:-// - ECPv4.6.19//NONSGML v1.0//EN
CALSCALE:GREGORIAN
METHOD:PUBLISH
X-ORIGINAL-URL:https://ukrainianinstitute.org
X-WR-CALDESC:Events for 
BEGIN:VEVENT
DTSTART;TZID=America/New_York:20211105T190000
DTEND;TZID=America/New_York:20211105T190000
DTSTAMP:20260419T140151
CREATED:20210707T104942Z
LAST-MODIFIED:20211025T212741Z
UID:5972-1636138800-1636138800@ukrainianinstitute.org
SUMMARY:Old + New Discoveries
DESCRIPTION:MUSIC AT THE INSTITUTE\npresents \nOld + New Discoveries\nSolomiya Ivakhiv\, violin | Amit Peled\, cello | Tanya Bannister\, piano \n\nPROGRAM \nAnatol Kos-Anatolsky — Poem for Violin and Piano in D Minor\nDavid Popper — Tarantella Op. 33\nFrédéric Chopin — Sonata for Cello and Piano in G Minor: Largo\nFelix Mendelssohn — Piano Trio No.1 in D Minor\, Op. 49 \n\nGeneral admission – $30 per person \nMembers of the Ukrainian Institute of America – free  \nTickets \nA reception\, sponsored by Dr. Michael and Mrs. Ulana George\, will follow the concert. \nAll attendees are welcome. \n\nIn compliance with the most current New York State and New York City COVID public health and safety guidelines\, proof of vaccination and masks are required for attendance. \n\nWatch this concert on YouTube.com/UIANYC on November 14\, 2021 at 3:00PM \nOld + New Discoveries
URL:https://ukrainianinstitute.org/event/old-new-discoveries/
CATEGORIES:Music
ATTACH;FMTTYPE=image/jpeg:https://ukrainianinstitute.org/wp-content/uploads/2021/07/MATI_Nov_Facebook.jpg
END:VEVENT
END:VCALENDAR