BEGIN:VCALENDAR
VERSION:2.0
PRODID:-// - ECPv4.6.19//NONSGML v1.0//EN
CALSCALE:GREGORIAN
METHOD:PUBLISH
X-ORIGINAL-URL:https://ukrainianinstitute.org
X-WR-CALDESC:Events for 
BEGIN:VEVENT
DTSTART;TZID=America/New_York:20121201T200000
DTEND;TZID=America/New_York:20121201T220000
DTSTAMP:20260420T151153
CREATED:20121202T035308Z
LAST-MODIFIED:20140608T161903Z
UID:402-1354392000-1354399200@ukrainianinstitute.org
SUMMARY:Oleh Krysa - Celebrating his 70th Birthday
DESCRIPTION:Oleh Krysa – Celebrating his 70th Birthday
URL:https://ukrainianinstitute.org/event/oleh-krysa-celebrating-his-70th-birthday/
CATEGORIES:Music
ATTACH;FMTTYPE=image/jpeg:https://ukrainianinstitute.org/wp-content/uploads/2012/12/39-MATI-Oleh-Krysa-Celebrating-his-70th-Birthday-12.01.121.jpg
END:VEVENT
END:VCALENDAR