BEGIN:VCALENDAR
VERSION:2.0
PRODID:-// - ECPv4.6.19//NONSGML v1.0//EN
CALSCALE:GREGORIAN
METHOD:PUBLISH
X-ORIGINAL-URL:https://ukrainianinstitute.org
X-WR-CALDESC:Events for 
BEGIN:VEVENT
DTSTART;TZID=America/New_York:20181208T193000
DTEND;TZID=America/New_York:20181208T193000
DTSTAMP:20260420T003238
CREATED:20181021T200911Z
LAST-MODIFIED:20181116T152606Z
UID:3151-1544297400-1544297400@ukrainianinstitute.org
SUMMARY:Pianos Rule
DESCRIPTION: \nJEROME LOWENTHAL\, piano • CARMEL LOWENTHAL\, piano • URSULA OPPENS\, piano • DANIEL SWISTEL\, piano \nCOPLAND: “El Salón México\,” arranged by L. Bernstein for two pianos;\nBRAHMS: Variations on a Theme by Haydn\, Op. 56b for two pianos;\nSCHUMANN: Andante and Variations\, Opus 46 for two pianos;\nSTANKOVYCH: “Ancient Highland Dances” for two pianos (2002);\nLUTOSŁAWSKI: Variations on a Theme by Paganini for two pianos.  \nPre-concert lecture by Dr. Alain Frogley at 6:30 p.m.  \nFree admission\, with RSVP . As seats are limited\, we invite you to register by November 24\, 2018. \nPianos Rule
URL:https://ukrainianinstitute.org/event/pianos-rule/
CATEGORIES:Music
END:VEVENT
END:VCALENDAR