BEGIN:VCALENDAR
VERSION:2.0
PRODID:-// - ECPv4.6.19//NONSGML v1.0//EN
CALSCALE:GREGORIAN
METHOD:PUBLISH
X-ORIGINAL-URL:https://ukrainianinstitute.org
X-WR-CALDESC:Events for 
BEGIN:VEVENT
DTSTART;TZID=America/New_York:20120401T130000
DTEND;TZID=America/New_York:20120401T160000
DTSTAMP:20260420T165038
CREATED:20120401T044520Z
LAST-MODIFIED:20140608T155632Z
UID:410-1333285200-1333296000@ukrainianinstitute.org
SUMMARY:PYSANKA with Sofiyka Zielyk
DESCRIPTION:PYSANKA with Sofiyka Zielyk
URL:https://ukrainianinstitute.org/event/pysanka-with-sofiyka-zielyk/
CATEGORIES:Other
ATTACH;FMTTYPE=image/jpeg:https://ukrainianinstitute.org/wp-content/uploads/2012/04/12-PYSANKA-with-Sofiyka-Zielyk-April-1-2012-04.01.12.jpg
END:VEVENT
END:VCALENDAR