BEGIN:VCALENDAR
VERSION:2.0
PRODID:-// - ECPv4.6.19//NONSGML v1.0//EN
CALSCALE:GREGORIAN
METHOD:PUBLISH
X-ORIGINAL-URL:https://ukrainianinstitute.org
X-WR-CALDESC:Events for 
BEGIN:VEVENT
DTSTART;TZID=America/New_York:20140412T130000
DTEND;TZID=America/New_York:20140412T170000
DTSTAMP:20260420T145946
CREATED:20140418T115227Z
LAST-MODIFIED:20140608T164213Z
UID:528-1397307600-1397322000@ukrainianinstitute.org
SUMMARY:Pysanka Workshop
DESCRIPTION:Pysanka Workshop
URL:https://ukrainianinstitute.org/event/pysanka-workshop/
CATEGORIES:Other
ATTACH;FMTTYPE=image/jpeg:https://ukrainianinstitute.org/wp-content/uploads/2014/04/20-Pysanka-Workshop-April-121.jpg
END:VEVENT
END:VCALENDAR