BEGIN:VCALENDAR
VERSION:2.0
PRODID:-// - ECPv4.6.19//NONSGML v1.0//EN
CALSCALE:GREGORIAN
METHOD:PUBLISH
X-ORIGINAL-URL:https://ukrainianinstitute.org
X-WR-CALDESC:Events for 
BEGIN:VEVENT
DTSTART;TZID=America/New_York:20160319T000000
DTEND;TZID=America/New_York:20160319T160000
DTSTAMP:20260420T073045
CREATED:20160201T162821Z
LAST-MODIFIED:20160308T202106Z
UID:1216-1458345600-1458403200@ukrainianinstitute.org
SUMMARY:Pysanky Workshop
DESCRIPTION:\nLed by Laryssa Czebiniak\nNYC pysanky workshop guide extraordinaire \nExpress your creativity while experiencing this unique Ukrainian Easter egg-making tradition in a warm\, fun and friendly environment. \nNever tried your hand at this art? It’s a cultural experience accessible to all. \nAll levels welcome: those just beginning to explore\, to those wishing to learn advanced techniques. Laryssa will be on hand to personally guide your artistic endeavors all afternoon. \nSpecial presentation: “Ukraine will Rise”: Easter Postcards from Diaspora\, 1945-1989 with Vasyl Kosiv\, who  has been teaching visual communication since 1998. He graduated from Lviv Academy of Arts and received his PhD from Kharkiv Academy of Design and Arts in Ukraine. 2003-2004 academic year he spent in the US\, lecturing at Kansas State University and working as a visiting scholar at Cooper-Hewitt National Design Museum in New York. He lectured in Ukraine\, Russia\, Georgia\, Poland\, and Switzerland. Vasyl Kosiv served as a Deputy-Mayor of the City of Lviv from 2006 to 2013 being responsible for Education\, Culture\, Tourism\, and Cross-Border Cooperation. Currently he is a Fulbright Scholar at Columbia University in the City of New York.\n\n$20 includes supplies for pysanky and refreshments \nSpace is limited to 40 seats (ages 12+). \nThis is event is sold out! \nPysanky Workshop
URL:https://ukrainianinstitute.org/event/pysanky-workshop-2/
CATEGORIES:Other
END:VEVENT
END:VCALENDAR