BEGIN:VCALENDAR
VERSION:2.0
PRODID:-// - ECPv4.6.19//NONSGML v1.0//EN
CALSCALE:GREGORIAN
METHOD:PUBLISH
X-ORIGINAL-URL:https://ukrainianinstitute.org
X-WR-CALDESC:Events for 
BEGIN:VEVENT
DTSTART;TZID=America/New_York:20170518T183000
DTEND;TZID=America/New_York:20170518T213000
DTSTAMP:20260419T205151
CREATED:20170510T180354Z
LAST-MODIFIED:20170510T180354Z
UID:1928-1495132200-1495143000@ukrainianinstitute.org
SUMMARY:Pyvo Networking Night
DESCRIPTION:Pyvo Networking Night is a seasonal event which helps you meet new peo­ple in the Ukrainian and international professional com­mu­nity\, recon­nect with peo­ple you already know\, and enjoy hors d’oeuvres and select Ukrainian beers. \n$25 cover charge includes refreshments and hors d’oeuvres. \nAll are welcome! \nPyvo Networking Night
URL:https://ukrainianinstitute.org/event/pyvo-networking-night-3/
CATEGORIES:Other
END:VEVENT
END:VCALENDAR