BEGIN:VCALENDAR
VERSION:2.0
PRODID:-// - ECPv4.6.19//NONSGML v1.0//EN
CALSCALE:GREGORIAN
METHOD:PUBLISH
X-ORIGINAL-URL:https://ukrainianinstitute.org
X-WR-CALDESC:Events for 
BEGIN:VEVENT
DTSTART;TZID=America/New_York:20161007T183000
DTEND;TZID=America/New_York:20161007T223000
DTSTAMP:20260420T073025
CREATED:20160929T210652Z
LAST-MODIFIED:20160930T210701Z
UID:1640-1475865000-1475879400@ukrainianinstitute.org
SUMMARY:Pyvo Networking Night
DESCRIPTION: \nAll are welcome! \n[su_button url=”https://goo.gl/forms/MH09Puf7vgqNxT7p2″ style=”soft” icon=”icon: download”]PLEASE RSVP[/su_button] \nPyvo Networking Night
URL:https://ukrainianinstitute.org/event/pyvo-networking-night/
CATEGORIES:Other
END:VEVENT
END:VCALENDAR