BEGIN:VCALENDAR
VERSION:2.0
PRODID:-// - ECPv4.6.19//NONSGML v1.0//EN
CALSCALE:GREGORIAN
METHOD:PUBLISH
X-ORIGINAL-URL:https://ukrainianinstitute.org
X-WR-CALDESC:Events for 
BEGIN:VEVENT
DTSTART;TZID=America/New_York:20141003T183000
DTEND;TZID=America/New_York:20141003T183000
DTSTAMP:20260420T125524
CREATED:20140926T174927Z
LAST-MODIFIED:20140926T175043Z
UID:799-1412361000-1412361000@ukrainianinstitute.org
SUMMARY:Pyvo Night
DESCRIPTION: \nPlease RSVP \nPyvo Night
URL:https://ukrainianinstitute.org/event/pyvo-night/
CATEGORIES:Other
END:VEVENT
END:VCALENDAR