BEGIN:VCALENDAR
VERSION:2.0
PRODID:-// - ECPv4.6.19//NONSGML v1.0//EN
CALSCALE:GREGORIAN
METHOD:PUBLISH
X-ORIGINAL-URL:https://ukrainianinstitute.org
X-WR-CALDESC:Events for 
BEGIN:VEVENT
DTSTART;TZID=America/New_York:20160318T120000
DTEND;TZID=America/New_York:20160413T180000
DTSTAMP:20260421T110257
CREATED:20151201T225710Z
LAST-MODIFIED:20170816T124051Z
UID:1144-1458302400-1460570400@ukrainianinstitute.org
SUMMARY:Jordan. Paintings by Petro Bevza
DESCRIPTION: \nArt at the Institute presents\nPetro Bevza: Jordan \nMarch 18 – April 13\, 2016\nReception for the artist: Friday\, March 18 from 6:00pm to 8:00pm\nPlease RSVP to attend  \nThe Ukrainian Institute of America\n2 East 79th Street (at Fifth Avenue)\nNew York\, NY 10075 \nThe Board of Directors of The Ukrainian Institute of America cordially invites you to attend the opening reception of Jordan\, an exhibition of new paintings by Ukrainian artist Petro Bevza\, to be held at The Ukrainian Institute of America\, on Friday\, March 18 from 6:00 to 8:00pm. \nFollowing two previous creative collaborations\, this exhibition marks Mr. Bevza’s first solo presentation with The Ukrainian Institute of America. Visitors will surely recognize and abandon themselves in the artist’s ethereal metaphysical imagery straddling the spiritual and real worlds in which all humankind deliberates\, lives and breathes. \nWith Jordan\, we are offered the gift of Petro Bevza’s meticulously crafted exploration of one of the most impressive ceremonies of the Byzantine Rite: the solemn blessing of the water on the Feast of the Epiphany commemorating Christ’s baptism in the River Jordan. Water\, the central theme\, is the everyday element\, the essence\, through which faith is always present manifested by inner spiritual renewal. For the artist\, subsequent to an extended personal pilgrimage to the Jordan region\, this holds true to be a direct meditation on what it is to aspire to being fully alive and human. \nBorn in the Kyiv region of Ukraine\, Petro Bevza attended and graduated from the Kyiv State Art Academy. In 2012\, he participated in Arsenale 2012\, the first biennial of contemporary art in Ukraine. Selected recent solo exhibitions of his artworks were held at N2N Gallery (Abu Dhabi)\, Nest Gallery (Geneva)\, Bezpala Brown Gallery (Toronto)\, Galleri Gamla Vaster (Malme\, Sweden)\, and Bottega Gallery (Kyiv). Petro Bevza lives and works in Kyiv and Vyshneve\, Ukraine. \nA fully-illustrated catalog published in conjunction with the exhibition will be available. \nFor further information: Please contact Olena Sidlovych\, Executive Director\, at (212) 288-8660\, or mail@ukrainianinstitute.org. \nRead the full press release here. \nJordan. Paintings by Petro Bevza
URL:https://ukrainianinstitute.org/event/recent-paintings-by-petro-bevza/
CATEGORIES:Art
END:VEVENT
END:VCALENDAR