BEGIN:VCALENDAR
VERSION:2.0
PRODID:-// - ECPv4.6.19//NONSGML v1.0//EN
CALSCALE:GREGORIAN
METHOD:PUBLISH
X-ORIGINAL-URL:https://ukrainianinstitute.org
X-WR-CALDESC:Events for 
BEGIN:VEVENT
DTSTART;TZID=America/New_York:20210116T150000
DTEND;TZID=America/New_York:20210116T150000
DTSTAMP:20260419T224819
CREATED:20210113T173928Z
LAST-MODIFIED:20210113T174323Z
UID:5028-1610809200-1610809200@ukrainianinstitute.org
SUMMARY:Rekindle the Magic of Soyuzivka
DESCRIPTION: \nMore Details \nRekindle the Magic of Soyuzivka
URL:https://ukrainianinstitute.org/event/rekindle-the-magic-of-soyuzivka/
CATEGORIES:Other Ukrainian-American Community Events
END:VEVENT
END:VCALENDAR