BEGIN:VCALENDAR
VERSION:2.0
PRODID:-// - ECPv4.6.19//NONSGML v1.0//EN
CALSCALE:GREGORIAN
METHOD:PUBLISH
X-ORIGINAL-URL:https://ukrainianinstitute.org
X-WR-CALDESC:Events for 
BEGIN:VEVENT
DTSTART;TZID=America/New_York:20170422T193000
DTEND;TZID=America/New_York:20170422T193000
DTSTAMP:20260420T022517
CREATED:20170403T171649Z
LAST-MODIFIED:20170403T173157Z
UID:1894-1492889400-1492889400@ukrainianinstitute.org
SUMMARY:Resurrection: Music from the Ukrainian Sacred Choral Tradition
DESCRIPTION: \nThis memorable concert will feature selections from a recent composition by Fr. John Sembrat OSBM for the Resurrectional Divine Liturgy as well as other masterpieces of sacred music from the Eastern Church\, including works by Bortniansky\, Vedel\, and Hurko. You will be enthralled by a combined male chorus of over 50 voices under the direction of Michael Zaugg of Pro Coro Canada.  \nThe chorus includes members of the following choirs: \nPro Coro Canada\nBoyan Ensemble of Kyiv\nHomin Municipal Choir of Lviv\nChorus of the Armed Forces of Ukraine\nVydubychy Church Choir\nKyiv National Philharmonic\nUkrainian Bandurist Chorus (Detroit)\nAxios Men’s Ensemble of Edmonton\nUkrainian Male Chorus of Edmonton\nCome hear male voices like you have never heard before! \nSt. Francis Xavier Roman Catholic Church\n46 W 16th St\, New York\, NY  \nBUY TICKETS \nResurrection: Music from the Ukrainian Sacred Choral Tradition
URL:https://ukrainianinstitute.org/event/resurrection-music-from-the-ukrainian-sacred-choral-tradition/
CATEGORIES:Other Ukrainian-American Community Events
END:VEVENT
END:VCALENDAR