BEGIN:VCALENDAR
VERSION:2.0
PRODID:-// - ECPv4.6.19//NONSGML v1.0//EN
CALSCALE:GREGORIAN
METHOD:PUBLISH
X-ORIGINAL-URL:https://ukrainianinstitute.org
X-WR-CALDESC:Events for 
BEGIN:VEVENT
DTSTART;TZID=America/New_York:20140119T140000
DTEND;TZID=America/New_York:20140119T170000
DTSTAMP:20260420T130426
CREATED:20140418T115543Z
LAST-MODIFIED:20140608T163111Z
UID:530-1390140000-1390150800@ukrainianinstitute.org
SUMMARY:The Curious Story of the Sidewalk Tree
DESCRIPTION:Yara’s “Light and Shadow Festival of New Art\, Music\, Poetry and Performance” \nThe Curious Story of the Sidewalk Tree
URL:https://ukrainianinstitute.org/event/the-curious-story-of-the-sidewalk-tree/
CATEGORIES:Music,Other
ATTACH;FMTTYPE=image/jpeg:https://ukrainianinstitute.org/wp-content/uploads/2014/04/3-Yara-Winter-Festival-Jan-191.jpg
END:VEVENT
END:VCALENDAR