BEGIN:VCALENDAR
VERSION:2.0
PRODID:-// - ECPv4.6.19//NONSGML v1.0//EN
CALSCALE:GREGORIAN
METHOD:PUBLISH
X-ORIGINAL-URL:https://ukrainianinstitute.org
X-WR-CALDESC:Events for 
BEGIN:VEVENT
DTSTART;TZID=America/New_York:20161104T193000
DTEND;TZID=America/New_York:20161104T193000
DTSTAMP:20260420T073421
CREATED:20160826T181414Z
LAST-MODIFIED:20161013T175627Z
UID:1523-1478287800-1478287800@ukrainianinstitute.org
SUMMARY:"The Sounds of Ukraine" featuring the world-renowned Kyiv Chamber Choir
DESCRIPTION:\n \n\n\n \n\n\nUIA Exclusive VIP Ticket Package\n\n\nPrice $75.00 USD \n\n\n\n\n\n\nConcert Tour Information \nSponsor: Self Reliance New York Federal Credit Union \n“The Sounds of Ukraine” featuring the world-renowned Kyiv Chamber Choir
URL:https://ukrainianinstitute.org/event/the-sounds-of-ukraine/
LOCATION:2 East 90th Street\, New York\, NY
CATEGORIES:Other Ukrainian-American Community Events
END:VEVENT
END:VCALENDAR