BEGIN:VCALENDAR
VERSION:2.0
PRODID:-// - ECPv4.6.19//NONSGML v1.0//EN
CALSCALE:GREGORIAN
METHOD:PUBLISH
X-ORIGINAL-URL:https://ukrainianinstitute.org
X-WR-CALDESC:Events for 
BEGIN:VEVENT
DTSTART;TZID=America/New_York:20200301T140000
DTEND;TZID=America/New_York:20200301T140000
DTSTAMP:20260420T005811
CREATED:20200115T191226Z
LAST-MODIFIED:20200115T191226Z
UID:4031-1583071200-1583071200@ukrainianinstitute.org
SUMMARY:UCMF: Composer’s Roundtable
DESCRIPTION: \nLudmila Yurina will introduce this roundtable with a short history of approaches to the education of contemporary composers in Ukraine. This will serve as the starting point for a discussion Ukraine’s contemporary music with Anna Korsun\, Svyatoslav Lunyov and legendary Ukrainian composer\, Leonid Hrabovsky\, moderated by Yurina.  A concert of their music alongside works by their peers and students will follow.  \nSPEAKER PRESENTATION                                                                                                                                                         Ludmila Yurina\, “Educating Ukraine’s Composers: Generational Perspectives”                                                            Followed by discussion with Anna Korsun\, Svyatoslav Lunyov\, and Leonid Hrabovsky \nCONCERT PROGRAM TO INCLUDE                                                                                                                                                Leonid Hrabovsky\, Trio for Violin\, Bass and Piano                                                                                                     Anna Korsun\, Wehmut                                                                                                                                                    Svyatoslav Lunyov\, Zehn Stücke                                                                                                                                     Ludmila Yurina\, Silicon Interferences                                                                                                                             Ivan Nebesnyy\, 7 Messages from Wild Nature                                                                                                                                                 Serhii Pilyutikov\, Quintet                                                                                                                                              Maxim Kolomiiets\, Vinyl Snails                                                                                                                                 Volodymyr Runchak\, Fingerprints on Strings\, Keys\, and Valves                                                                                         Daniil Hetman\, And with its Feet Cuts through the Path it Follows \nPERFORMERS INCLUDING                                                                                                                                                             NYU Contemporary Music Ensemble                                                                                                                                                                                                 Jennifer Gliere\, soprano                                                                                                                                                             Carrie Frey\, viola                                                                                                                                                              Margarita Rovenskaya\, piano                                                                                                                                                    Adrianne Munden-Dixon\, violin                                                                                                                       Helen Newby\, cello                                                                                                                                                           Julia Biber\, cello                                                                                                                 Alexander Chaplinsky\, piano\nLindsay Eckenroth\, flute\nAlexandra Jordan\, trumpet\nTessa Pettit\, horn\nErin Lensing\, oboe\nMarina Kifferstein\, violin\nGleb Kanasevich\, clarinet\nTristan Kasten-Krause\, bass                        \n2:00 PM       COMPOSERS’ ROUNDTABLE \n3:00 PM        CONCERT \nJoin us after the concert for a small reception at the museum.    \nRSVP through Facebook event page.                                                                                                                                                                                                                                                                                                                                                                                                                                                                                                                                                                                                                                                                                                                                                                                                                                                                                                                              \nUCMF: Composer’s Roundtable
URL:https://ukrainianinstitute.org/event/ucmf-composers-roundtable/
CATEGORIES:Other Ukrainian-American Community Events
END:VEVENT
END:VCALENDAR