BEGIN:VCALENDAR
VERSION:2.0
PRODID:-// - ECPv4.6.19//NONSGML v1.0//EN
CALSCALE:GREGORIAN
METHOD:PUBLISH
X-ORIGINAL-URL:https://ukrainianinstitute.org
X-WR-CALDESC:Events for 
BEGIN:VEVENT
DTSTART;TZID=America/New_York:20151003T200000
DTEND;TZID=America/New_York:20151003T200000
DTSTAMP:20260420T073645
CREATED:20150914T170423Z
LAST-MODIFIED:20151014T215401Z
UID:1054-1443902400-1443902400@ukrainianinstitute.org
SUMMARY:Ukraine - Journey to Freedom: A Century of Classical Music for Violin and Piano
DESCRIPTION: \nVIKTOR KOSENKO: “Dreams” and Impromptu\, Op. 4 (1919)\nVALENTYN SILVESTROV: Sonata “Post Scriptum” (1990)\nMYROSLAV SKORYK: “Hutsul Triptych”: Allegretto and Dance for Violin and Piano (from the film Shadows of Forgotten Ancestors for string chamber orchestra) (1965)\nOLEKSANDR SHCHETYNSKY: “An Episode in the Life of a Poet”—a fantasy based on the opera Interrupted Letter for Violin and Piano (2014)\nYEVHEN STANKOVYCH: “Angel’s Touch” (2013)\nBORYS LYATOSHYNSKY: Sonata\, Op. 19 (1926) \nAdmission: $25; Students & Seniors $10; UIA Members free \nUkraine – Journey to Freedom: A Century of Classical Music for Violin and Piano
URL:https://ukrainianinstitute.org/event/ukraine-journey-to-freedom-a-century-of-classical-music-for-violin-and-piano/
CATEGORIES:Music
END:VEVENT
END:VCALENDAR